BEGIN:VCALENDAR
VERSION:2.0
PRODID:-//ADHD Women: Born to be Extraordinary! - ECPv6.15.20//NONSGML v1.0//EN
CALSCALE:GREGORIAN
METHOD:PUBLISH
X-WR-CALNAME:ADHD Women: Born to be Extraordinary!
X-ORIGINAL-URL:https://greatkettlebellworkouts.com
X-WR-CALDESC:Events for ADHD Women: Born to be Extraordinary!
REFRESH-INTERVAL;VALUE=DURATION:PT1H
X-Robots-Tag:noindex
X-PUBLISHED-TTL:PT1H
BEGIN:VTIMEZONE
TZID:America/New_York
BEGIN:DAYLIGHT
TZOFFSETFROM:-0500
TZOFFSETTO:-0400
TZNAME:EDT
DTSTART:20200308T070000
END:DAYLIGHT
BEGIN:STANDARD
TZOFFSETFROM:-0400
TZOFFSETTO:-0500
TZNAME:EST
DTSTART:20201101T060000
END:STANDARD
BEGIN:DAYLIGHT
TZOFFSETFROM:-0500
TZOFFSETTO:-0400
TZNAME:EDT
DTSTART:20210314T070000
END:DAYLIGHT
BEGIN:STANDARD
TZOFFSETFROM:-0400
TZOFFSETTO:-0500
TZNAME:EST
DTSTART:20211107T060000
END:STANDARD
BEGIN:DAYLIGHT
TZOFFSETFROM:-0500
TZOFFSETTO:-0400
TZNAME:EDT
DTSTART:20220313T070000
END:DAYLIGHT
BEGIN:STANDARD
TZOFFSETFROM:-0400
TZOFFSETTO:-0500
TZNAME:EST
DTSTART:20221106T060000
END:STANDARD
BEGIN:DAYLIGHT
TZOFFSETFROM:-0500
TZOFFSETTO:-0400
TZNAME:EDT
DTSTART:20230312T070000
END:DAYLIGHT
BEGIN:STANDARD
TZOFFSETFROM:-0400
TZOFFSETTO:-0500
TZNAME:EST
DTSTART:20231105T060000
END:STANDARD
BEGIN:DAYLIGHT
TZOFFSETFROM:-0500
TZOFFSETTO:-0400
TZNAME:EDT
DTSTART:20240310T070000
END:DAYLIGHT
BEGIN:STANDARD
TZOFFSETFROM:-0400
TZOFFSETTO:-0500
TZNAME:EST
DTSTART:20241103T060000
END:STANDARD
BEGIN:DAYLIGHT
TZOFFSETFROM:-0500
TZOFFSETTO:-0400
TZNAME:EDT
DTSTART:20250309T070000
END:DAYLIGHT
BEGIN:STANDARD
TZOFFSETFROM:-0400
TZOFFSETTO:-0500
TZNAME:EST
DTSTART:20251102T060000
END:STANDARD
BEGIN:DAYLIGHT
TZOFFSETFROM:-0500
TZOFFSETTO:-0400
TZNAME:EDT
DTSTART:20260308T070000
END:DAYLIGHT
BEGIN:STANDARD
TZOFFSETFROM:-0400
TZOFFSETTO:-0500
TZNAME:EST
DTSTART:20261101T060000
END:STANDARD
END:VTIMEZONE
BEGIN:VTIMEZONE
TZID:America/Halifax
BEGIN:DAYLIGHT
TZOFFSETFROM:-0400
TZOFFSETTO:-0300
TZNAME:ADT
DTSTART:20240310T060000
END:DAYLIGHT
BEGIN:STANDARD
TZOFFSETFROM:-0300
TZOFFSETTO:-0400
TZNAME:AST
DTSTART:20241103T050000
END:STANDARD
BEGIN:DAYLIGHT
TZOFFSETFROM:-0400
TZOFFSETTO:-0300
TZNAME:ADT
DTSTART:20250309T060000
END:DAYLIGHT
BEGIN:STANDARD
TZOFFSETFROM:-0300
TZOFFSETTO:-0400
TZNAME:AST
DTSTART:20251102T050000
END:STANDARD
BEGIN:DAYLIGHT
TZOFFSETFROM:-0400
TZOFFSETTO:-0300
TZNAME:ADT
DTSTART:20260308T060000
END:DAYLIGHT
BEGIN:STANDARD
TZOFFSETFROM:-0300
TZOFFSETTO:-0400
TZNAME:AST
DTSTART:20261101T050000
END:STANDARD
END:VTIMEZONE
BEGIN:VEVENT
DTSTART;TZID=America/New_York:20250816T120000
DTEND;TZID=America/New_York:20250816T160000
DTSTAMP:20260419T095749
CREATED:20250620T213548Z
LAST-MODIFIED:20250730T185425Z
UID:9684-1755345600-1755360000@greatkettlebellworkouts.com
SUMMARY:ADHD 102 for Women
DESCRIPTION:What is it?\nA four-hour\, interactive Zoom workshop crafted for women navigating ADHD at a deeper level. You’ll receive a personalized workbook\, bonus strategies & resources\, and supportive time with fellow ADHD women. Sessions are recorded and include transcripts\, video\, and audio—all yours afterward. \nWhat You’ll Explore\nThis isn’t a refresher—it’s a targeted deep dive designed to build on your ADHD 101 foundation (where you covered neurology\, hormones\, memory\, disorganization\, emotional regulation\, relationships\, finances\, and more) \nFind out more: https://greatkettlebellworkouts.com/event/adhd-101-for-women/
URL:https://greatkettlebellworkouts.com/event/adhd-102-for-women/
LOCATION:Online
ATTACH;FMTTYPE=image/jpeg:https://greatkettlebellworkouts.com/wp-content/uploads/102-workshop.jpg
END:VEVENT
BEGIN:VEVENT
DTSTART;TZID=America/New_York:20250726T120000
DTEND;TZID=America/New_York:20250726T160000
DTSTAMP:20260419T095749
CREATED:20250620T212750Z
LAST-MODIFIED:20250711T172529Z
UID:9682-1753531200-1753545600@greatkettlebellworkouts.com
SUMMARY:ADHD 101 for Women
DESCRIPTION:Whether you are recently diagnosed OR you were diagnosed decades ago\, ADHD 101 for Women was designed for you.\n\n\n\n\nThe ever-popular ADHD 101 for Women returns! Hundreds of ADHD women have not only revisited their ADHD ‘roots’ but shared their stories with other (literally) like-minded women during this 4-hour workshop. \nWe start with the basics (the differences in ADHD women\, review of the ADHD brain\, ‘sidecar’ ADHD diagnoses)\, then veer into ADHD hormone factors and discuss how ADHD impacts relationships. The workshop will also address the ADHD-memory connection\, how to fight disorganization and time blindness and its accompanying frustrations. Plus offer a ton of potential workarounds\, solutions and insights that can bolster your ADHD life. \nFind out more here: https://greatkettlebellworkouts.com/adhd-101-adhd-102-workshops/
URL:https://greatkettlebellworkouts.com/event/adhd-101-for-women/
LOCATION:Online
ATTACH;FMTTYPE=image/png:https://greatkettlebellworkouts.com/wp-content/uploads/ADHD-101-women-logo.png
END:VEVENT
BEGIN:VEVENT
DTSTART;VALUE=DATE:20250612
DTEND;VALUE=DATE:20250806
DTSTAMP:20260419T095749
CREATED:20250114T162136Z
LAST-MODIFIED:20250411T183343Z
UID:9539-1749686400-1754438399@greatkettlebellworkouts.com
SUMMARY:12-week Get Organized Program /  June 12 – August 5\, 2025
DESCRIPTION:If 2025 is your YEAR to GET CLEAR\, then Get Organized might be right for you
URL:https://greatkettlebellworkouts.com/event/get-organized-program-march-27-may-20-2025/
LOCATION:Online
ATTACH;FMTTYPE=image/png:https://greatkettlebellworkouts.com/wp-content/uploads/get-org-2025-sparkle-banner-e1731779502647.png
END:VEVENT
BEGIN:VEVENT
DTSTART;TZID=America/New_York:20250428T130000
DTEND;TZID=America/New_York:20250428T143000
DTSTAMP:20260419T095749
CREATED:20250112T184112Z
LAST-MODIFIED:20250412T032452Z
UID:9533-1745845200-1745850600@greatkettlebellworkouts.com
SUMMARY:12-Week ADDiva Coaching Spa every Monday at 1 pm EDT
DESCRIPTION:12-Week Coaching Spa runs April 28 – July 21\, 2025
URL:https://greatkettlebellworkouts.com/event/12-week-addiva-coaching-spa/
LOCATION:Online
ATTACH;FMTTYPE=image/png:https://greatkettlebellworkouts.com/wp-content/uploads/coaching-spa-2023.png
END:VEVENT
BEGIN:VEVENT
DTSTART;VALUE=DATE:20250317
DTEND;VALUE=DATE:20250323
DTSTAMP:20260419T095749
CREATED:20250112T183757Z
LAST-MODIFIED:20250114T173628Z
UID:9529-1742169600-1742687999@greatkettlebellworkouts.com
SUMMARY:ADHD Women's Palooza / March 17-22\, 2025
DESCRIPTION:Don’t miss this life-changing week! \nYes\, ADHD IS different for women\, so we’ve invited the world’s top ADHD experts to talk specifically about women’s issues. It’s truly a cream-of-the-crop lineup of experts.
URL:https://greatkettlebellworkouts.com/event/adhd-womens-palooza/
LOCATION:Online
ATTACH;FMTTYPE=image/png:https://greatkettlebellworkouts.com/wp-content/uploads/Womens-Palooza.png
END:VEVENT
BEGIN:VEVENT
DTSTART;TZID=America/New_York:20250124T000000
DTEND;TZID=America/New_York:20250124T160000
DTSTAMP:20260419T095749
CREATED:20241218T142927Z
LAST-MODIFIED:20250114T173645Z
UID:9512-1737676800-1737734400@greatkettlebellworkouts.com
SUMMARY:ADHD Women 102 2-day Workshop / January 24-25\, 2025
DESCRIPTION:
URL:https://greatkettlebellworkouts.com/event/adhd-women-102-workshop/
LOCATION:Online
ATTACH;FMTTYPE=image/jpeg:https://greatkettlebellworkouts.com/wp-content/uploads/102-workshop.jpg
END:VEVENT
BEGIN:VEVENT
DTSTART;TZID=America/Halifax:20250120T130000
DTEND;TZID=America/Halifax:20250407T143000
DTSTAMP:20260419T095749
CREATED:20250114T163859Z
LAST-MODIFIED:20250114T164737Z
UID:9544-1737378000-1744036200@greatkettlebellworkouts.com
SUMMARY:12-week ADDiva Coaching Spa / January 20 - April 7\, 2025
DESCRIPTION:Know what you should be doing but can’t quite DO it?\nTired of breaking promises – to yourself and everyone else?\nFinally ready to change how you handle your ADHD? \nMaybe it’s time\nfor the ADDiva Coaching Spa! \n12 weeks of intensive\, remarkably effective coaching with Linda Roggli\nand other women who truly understand the challenges of owning an ADHD brain — because they each have one\, too! \n3-month payment plan available
URL:https://greatkettlebellworkouts.com/event/12-week-addiva-coaching-spa-january-20-april-7-2025/
LOCATION:Online
ATTACH;FMTTYPE=image/png:https://greatkettlebellworkouts.com/wp-content/uploads/coaching-spa-2023.png
END:VEVENT
BEGIN:VEVENT
DTSTART;VALUE=DATE:20250110
DTEND;VALUE=DATE:20250113
DTSTAMP:20260419T095749
CREATED:20241116T171101Z
LAST-MODIFIED:20241116T171304Z
UID:9473-1736467200-1736726399@greatkettlebellworkouts.com
SUMMARY:ADHD Couples Palooza January 10-12\, 2025
DESCRIPTION:Nobody taught you how to build a secure partnership\, and now you’re wondering if it’s even possible to live with less friction.\n\n\n\n\nYou’re exhausted from looking for help only to feel misunderstood by those who don’t understand how your brain works.\n\nManaging life is getting harder as your energy is drained by chaos on the calendar and in your home. Something needs to change.\n\n\n\nLearn more here: https://adhdpalooza.com/couples-2/
URL:https://greatkettlebellworkouts.com/event/adhd-couples-palooza-january-10-12-2025/
LOCATION:Online
ATTACH;FMTTYPE=image/png:https://greatkettlebellworkouts.com/wp-content/uploads/couples-palooza-24-banner-wide-no-dates-layers-e1731777220855.png
END:VEVENT
BEGIN:VEVENT
DTSTART;TZID=America/Halifax:20250102T120000
DTEND;TZID=America/Halifax:20250112T124500
DTSTAMP:20260419T095749
CREATED:20241023T023831Z
LAST-MODIFIED:20250112T183908Z
UID:9421-1735819200-1736685900@greatkettlebellworkouts.com
SUMMARY:Get Organized 8-week Program Jan/Feb 2025
DESCRIPTION:If 2025 is your YEAR to GET CLEAR\, then Get Organized might be right for you.\nFind out more about the Get Organized Program here:  https://greatkettlebellworkouts.com/get-organized/ \n  \n  \n 
URL:https://greatkettlebellworkouts.com/event/get-organized-program-jan-feb-2025/
LOCATION:Online
ATTACH;FMTTYPE=image/png:https://greatkettlebellworkouts.com/wp-content/uploads/get-org-2025-sparkle-banner-e1731779502647.png
END:VEVENT
BEGIN:VEVENT
DTSTART;TZID=America/New_York:20241228T120000
DTEND;TZID=America/New_York:20241228T170000
DTSTAMP:20260419T095749
CREATED:20230831T210257Z
LAST-MODIFIED:20241218T142203Z
UID:9063-1735387200-1735405200@greatkettlebellworkouts.com
SUMMARY:Menopause (Peri & Post) for ADHD 5-Hour Workshop
DESCRIPTION:You know all those awful menopause jokes: “Is it hot in here or is it just me?” or “Of all the things I’ve lost\, I miss my mind the most.” \nBut when you are the owner of an ADHD brain\, menopause\, perimenopause and postmenopause are truly not laughing matters. \n Does ADHD get “worse” with age? It sure does when your estrogen starts bouncing around like a pogo stick and eventually drifts into oblivion. But WHY does the ADHD brain often suffer more during this time of life? Great question – we’ve got answers! \nFind out more here: https://greatkettlebellworkouts.com/101-adhd-for-women-and-menopause-adhd-workshops/
URL:https://greatkettlebellworkouts.com/event/menopause-peri-post-for-adhd-workshop/
LOCATION:Online
ATTACH;FMTTYPE=image/png:https://greatkettlebellworkouts.com/wp-content/uploads/what-the-heck-menopause-no-date-e1731778562258.png
END:VEVENT
BEGIN:VEVENT
DTSTART;TZID=America/New_York:20241122T130000
DTEND;TZID=America/New_York:20241122T160000
DTSTAMP:20260419T095749
CREATED:20241116T164802Z
LAST-MODIFIED:20241119T140002Z
UID:9463-1732280400-1732291200@greatkettlebellworkouts.com
SUMMARY:ADHD 101 for Women 2-day workshop - November 22-23\, 2024
DESCRIPTION:Whether you are recently diagnosed OR you were diagnosed decades ago\, ADHD 101 for Women was designed for you.\nThe ever-popular ADHD 101 for Women returns! Hundreds of ADHD women have not only revisited their ADHD ‘roots’ but shared their stories with other (literally) like-minded women during this 6-hour workshop\, now divided into two\, three-hour sessions. \nLearn more here: https://greatkettlebellworkouts.com/adhd-101-for-women-workshop-nov-22-2024/
URL:https://greatkettlebellworkouts.com/event/adhd-101-for-women-2-day-workshop-november-22-23-2024/
LOCATION:Online
ATTACH;FMTTYPE=image/png:https://greatkettlebellworkouts.com/wp-content/uploads/ADHD-101-women-nov-2024-layers-logo.png
END:VEVENT
BEGIN:VEVENT
DTSTART;TZID=America/New_York:20240601T120000
DTEND;TZID=America/New_York:20240603T163000
DTSTAMP:20260419T095749
CREATED:20231228T000512Z
LAST-MODIFIED:20240422T211859Z
UID:9150-1717243200-1717432200@greatkettlebellworkouts.com
SUMMARY:ADHD Menopause Workshop\, Saturday\, June 1\, 2024
DESCRIPTION:Find out more here: https://greatkettlebellworkouts.com/adhd-menopause-workshops
URL:https://greatkettlebellworkouts.com/event/adhd-menopause-workshop/
LOCATION:Online
ATTACH;FMTTYPE=image/jpeg:https://greatkettlebellworkouts.com/wp-content/uploads/menopause-pink-banner_219165989.jpeg
END:VEVENT
BEGIN:VEVENT
DTSTART;TZID=America/New_York:20240428T130000
DTEND;TZID=America/New_York:20240428T160000
DTSTAMP:20260419T095749
CREATED:20231228T015224Z
LAST-MODIFIED:20240410T162904Z
UID:9176-1714309200-1714320000@greatkettlebellworkouts.com
SUMMARY:Get Organized Workshop - Sunday\, April 28\, 2024
DESCRIPTION:Register here for the Get Organized Workshop: https://greatkettlebellworkouts.com/get-organized-workshop-april-28/
URL:https://greatkettlebellworkouts.com/event/get-organized-workshop/
LOCATION:Online
ATTACH;FMTTYPE=image/jpeg:https://greatkettlebellworkouts.com/wp-content/uploads/get-org-workshop-feb-3.jpeg
END:VEVENT
BEGIN:VEVENT
DTSTART;VALUE=DATE:20240401
DTEND;VALUE=DATE:20240407
DTSTAMP:20260419T095749
CREATED:20230831T220048Z
LAST-MODIFIED:20240115T215100Z
UID:9075-1711929600-1712447999@greatkettlebellworkouts.com
SUMMARY:9th Annual Women's Palooza April 1-6\, 2024
DESCRIPTION:Find out more about the 9th Annual Women’s Palooza here:  https://adhdpalooza.com/women
URL:https://greatkettlebellworkouts.com/event/9th-annual-womens-palooza-march-18-23-2024/
LOCATION:Online
ATTACH;FMTTYPE=image/png:https://greatkettlebellworkouts.com/wp-content/uploads/Womens-Palooza.png
END:VEVENT
BEGIN:VEVENT
DTSTART;TZID=America/New_York:20240301T120000
DTEND;TZID=America/New_York:20240301T163000
DTSTAMP:20260419T095749
CREATED:20231228T002022Z
LAST-MODIFIED:20240315T171058Z
UID:9157-1709294400-1709310600@greatkettlebellworkouts.com
SUMMARY:ADHD 101 for Women Workshop
DESCRIPTION:Find out more: https://greatkettlebellworkouts.com/adhd-101-for-women-workshop-march-23-2024/
URL:https://greatkettlebellworkouts.com/event/adhd-101-workshop/
ATTACH;FMTTYPE=image/png:https://greatkettlebellworkouts.com/wp-content/uploads/ADHD-101-women-March-9-2024-layers-logo.png
END:VEVENT
BEGIN:VEVENT
DTSTART;TZID=America/New_York:20240203T130000
DTEND;TZID=America/New_York:20240203T160000
DTSTAMP:20260419T095749
CREATED:20231228T001629Z
LAST-MODIFIED:20240130T175346Z
UID:9155-1706965200-1706976000@greatkettlebellworkouts.com
SUMMARY:ADHD Get Organize Workshop
DESCRIPTION:No time for a weekly organizing program? Join us for a Saturday afternoon workshop with ADHD organizing expert Linda Roggli (Feb 3\, 2024\, from 1- 4 pm Eastern). You’ll get some organizing tips\, hear from other like-minded ADHD folks\, and then dig into your piles during a live mini-organizing “blitz.”
URL:https://greatkettlebellworkouts.com/event/get-organize-workshop/
LOCATION:Online
ATTACH;FMTTYPE=image/png:https://greatkettlebellworkouts.com/wp-content/uploads/banner-get-org-workshop-2-3-24-layers.png
END:VEVENT
BEGIN:VEVENT
DTSTART;TZID=America/New_York:20240201T120000
DTEND;TZID=America/New_York:20240201T163000
DTSTAMP:20260419T095749
CREATED:20231228T013638Z
LAST-MODIFIED:20240315T171152Z
UID:9170-1706788800-1706805000@greatkettlebellworkouts.com
SUMMARY:ADHD 202 for Women Workshop
DESCRIPTION:ADHD 202 Workshop details coming SOON!
URL:https://greatkettlebellworkouts.com/event/adhd-202-workshop/
LOCATION:Online
ATTACH;FMTTYPE=image/png:https://greatkettlebellworkouts.com/wp-content/uploads/ADHD-202-workshop.png
END:VEVENT
BEGIN:VEVENT
DTSTART;VALUE=DATE:20240201
DTEND;VALUE=DATE:20240325
DTSTAMP:20260419T095749
CREATED:20230831T215611Z
LAST-MODIFIED:20231228T014132Z
UID:9071-1706745600-1711324799@greatkettlebellworkouts.com
SUMMARY:Get Organized 8-Week Program February 1 - March 24\, 2024
DESCRIPTION:Find out more here:  https://greatkettlebellworkouts.com/get-organized/
URL:https://greatkettlebellworkouts.com/event/get-organized-program/
LOCATION:Online
ATTACH;FMTTYPE=image/png:https://greatkettlebellworkouts.com/wp-content/uploads/get-org-2024-sparkle-banner-1.png
END:VEVENT
BEGIN:VEVENT
DTSTART;VALUE=DATE:20231130
DTEND;VALUE=DATE:20231204
DTSTAMP:20260419T095749
CREATED:20210518T170522Z
LAST-MODIFIED:20230831T220520Z
UID:8135-1701302400-1701647999@greatkettlebellworkouts.com
SUMMARY:Virtual International Conference on ADHD - November 31 - December 3\, 2023
DESCRIPTION:Find out more here:  https://adhdconference.eventsair.com/adhd-conference
URL:https://greatkettlebellworkouts.com/event/https-adhdconference-eventsair-com-adhd-conference/
ATTACH;FMTTYPE=image/jpeg:https://greatkettlebellworkouts.com/wp-content/uploads/ADHD2023-Save-the-Date.jpeg
END:VEVENT
BEGIN:VEVENT
DTSTART;TZID=America/New_York:20231007T120000
DTEND;TZID=America/New_York:20231007T170000
DTSTAMP:20260419T095749
CREATED:20230908T220904Z
LAST-MODIFIED:20230908T225343Z
UID:9114-1696680000-1696698000@greatkettlebellworkouts.com
SUMMARY:Menopause (Peri & Post) for ADHD 5-Hour Workshop
DESCRIPTION:Find out more here: https://greatkettlebellworkouts.com/101-adhd-for-women-and-menopause-adhd-workshops/
URL:https://greatkettlebellworkouts.com/event/menopause-peri-post-for-adhd-5-hour-workshop/
LOCATION:Online
ATTACH;FMTTYPE=image/png:https://greatkettlebellworkouts.com/wp-content/uploads/what-the-heck-menopause-no-date-e1731778562258.png
END:VEVENT
BEGIN:VEVENT
DTSTART;VALUE=DATE:20211028
DTEND;VALUE=DATE:20211126
DTSTAMP:20260419T095749
CREATED:20210520T134548Z
LAST-MODIFIED:20210520T152834Z
UID:8152-1635379200-1637884799@greatkettlebellworkouts.com
SUMMARY:Get Organized October 28 - November 25\, 2021
DESCRIPTION:Four weeks with live classes\, daily check-ins\, and ADDiva support.  Small group\, accountability\, support\, privacy.\nOrganizing “Blitzes” weekly: \nSundays from 4:00 – 6:00 pm EDT \nTuesdays 6:00 – 8:00 pm EDT \nThursdays 9:30 – 11:30 am EDT – all on Zoom\, with live check-ins and encouragement! \nFind out more here!  https://greatkettlebellworkouts.com/addiva-get-organized/
URL:https://greatkettlebellworkouts.com/event/get-organized-october-november-2021-program/
ATTACH;FMTTYPE=image/png:https://greatkettlebellworkouts.com/wp-content/uploads/get-organized-logo-big.png
END:VEVENT
BEGIN:VEVENT
DTSTART;VALUE=DATE:20211003
DTEND;VALUE=DATE:20211009
DTSTAMP:20260419T095749
CREATED:20210518T171038Z
LAST-MODIFIED:20210520T150629Z
UID:8138-1633219200-1633737599@greatkettlebellworkouts.com
SUMMARY:Sea Change Beach Retreat  October 3-8\, 2021
DESCRIPTION:For more info please visit the ADDiva Retreat website: https://addivaretreats.com/sea-change-2021/ \nFor pricing\, please contact Janine@addiva.net or text 919-730-0100
URL:https://greatkettlebellworkouts.com/event/addiva-beach-retreat-october-3-8-2021/
ATTACH;FMTTYPE=image/png:https://greatkettlebellworkouts.com/wp-content/uploads/retreats-logo-w-tagline-trans2-1.png
END:VEVENT
BEGIN:VEVENT
DTSTART;VALUE=DATE:20210916
DTEND;VALUE=DATE:20211015
DTSTAMP:20260419T095749
CREATED:20210520T134434Z
LAST-MODIFIED:20210520T145421Z
UID:8150-1631750400-1634255999@greatkettlebellworkouts.com
SUMMARY:Get Organized September 16 - October 14\, 2021
DESCRIPTION:Four weeks with live classes\, daily check-ins\, and ADDiva support.  Small group\, accountability\, support\, privacy.\nOrganizing “Blitzes” weekly: \nSundays from 4:00 – 6:00 pm EDT \nTuesdays 6:00 – 8:00 pm EDT \nThursdays 9:30 – 11:30 am EDT – all on Zoom\, with live check-ins and encouragement! \nFind out more here!  https://greatkettlebellworkouts.com/addiva-get-organized/
URL:https://greatkettlebellworkouts.com/event/get-organized-september-october-2021-program/
ATTACH;FMTTYPE=image/png:https://greatkettlebellworkouts.com/wp-content/uploads/get-organized-logo-big.png
END:VEVENT
BEGIN:VEVENT
DTSTART;VALUE=DATE:20210809
DTEND;VALUE=DATE:20210918
DTSTAMP:20260419T095749
CREATED:20210520T175003Z
LAST-MODIFIED:20210520T175003Z
UID:8175-1628467200-1631923199@greatkettlebellworkouts.com
SUMMARY:Addiva Coaching Spa starts August 9\, 2021
DESCRIPTION:Six weeks of intensive\, remarkably effective coaching with Linda Roggli\, Elizabeth Brink\, or Jo Chung and other women who truly understand the challenges of owning an ADHD brain —\nbecause they each have one\, too! \nMonday Spa – August 9\, 2021 –  September 20\, 2021 (Skip week of May 6\, 2021) \nWednesday Spa –  August 11\, 2021 – September 15\, 2021 \nFriday Spa  – August 13\, 2021 – September 17\, 2021 \nFind out more here! https://greatkettlebellworkouts.com/possibilities/coaching/group-coaching/addiva-coaching-spa/
URL:https://greatkettlebellworkouts.com/event/addiva-coaching-spa-starts-august-9-2021/
ATTACH;FMTTYPE=image/png:https://greatkettlebellworkouts.com/wp-content/uploads/coaching-spa-logo-vertical-no-border-2017.png
END:VEVENT
BEGIN:VEVENT
DTSTART;VALUE=DATE:20210805
DTEND;VALUE=DATE:20210903
DTSTAMP:20260419T095749
CREATED:20210520T134248Z
LAST-MODIFIED:20210520T144218Z
UID:8148-1628121600-1630627199@greatkettlebellworkouts.com
SUMMARY:Get Organized August 5 - September 2\, 2021
DESCRIPTION:Four weeks with live classes\, daily check-ins\, and ADDiva support.  Small group\, accountability\, support\, privacy.\nOrganizing “Blitzes” weekly: \nSundays from 4:00 – 6:00 pm EDT \nTuesdays 6:00 – 8:00 pm EDT \nThursdays 9:30 – 11:30 am EDT – all on Zoom\, with live check-ins and encouragement! \nFind out more here!  https://greatkettlebellworkouts.com/addiva-get-organized/
URL:https://greatkettlebellworkouts.com/event/get-organized-august-2021-program/
ATTACH;FMTTYPE=image/png:https://greatkettlebellworkouts.com/wp-content/uploads/get-organized-logo-big.png
END:VEVENT
BEGIN:VEVENT
DTSTART;VALUE=DATE:20210726
DTEND;VALUE=DATE:20210729
DTSTAMP:20260419T095749
CREATED:20210518T170228Z
LAST-MODIFIED:20210702T151518Z
UID:8132-1627257600-1627516799@greatkettlebellworkouts.com
SUMMARY:Parents' Palooza July 26-28\, 2021
DESCRIPTION:The 4th annual ADHD Parents’ Palooza brings together 32 of the world’s top ADHD and parenting experts engaging in a spectacular series of 16 conversations among colleagues. Parents\, grandparents\, and providers of ADHD kids of any age will gain essential guidance and reassurance in this unprecedented event. Join us!
URL:https://greatkettlebellworkouts.com/event/parents-palooza-2021/
ATTACH;FMTTYPE=image/png:https://greatkettlebellworkouts.com/wp-content/uploads/email-header-real-firewrx-600-x-200-K-.png
END:VEVENT
BEGIN:VEVENT
DTSTART;VALUE=DATE:20210624
DTEND;VALUE=DATE:20210723
DTSTAMP:20260419T095749
CREATED:20210518T165549Z
LAST-MODIFIED:20210520T143716Z
UID:8128-1624492800-1626998399@greatkettlebellworkouts.com
SUMMARY:Get Organized June 24 - July 22\, 2021
DESCRIPTION:Four weeks with live classes\, daily check-ins\, and ADDiva support.  Small group\, accountability\, support\, privacy.\nOrganizing “Blitzes” weekly: \nSundays from 4:00 – 6:00 pm EDT \nTuesdays 6:00 – 8:00 pm EDT \nThursdays 9:30 – 11:30 am EDT – all on Zoom\, with live check-ins and encouragement! \nFind out more here!  https://greatkettlebellworkouts.com/addiva-get-organized/
URL:https://greatkettlebellworkouts.com/event/get-organized-june-july-2021-program/
ATTACH;FMTTYPE=image/png:https://greatkettlebellworkouts.com/wp-content/uploads/get-organized-logo-big.png
END:VEVENT
BEGIN:VEVENT
DTSTART;VALUE=DATE:20210618
DTEND;VALUE=DATE:20210621
DTSTAMP:20260419T095749
CREATED:20210518T170126Z
LAST-MODIFIED:20210520T143232Z
UID:8130-1623974400-1624233599@greatkettlebellworkouts.com
SUMMARY:ADDiva online weekend workshop - June 18-20\, 2021
DESCRIPTION:Details coming soon.
URL:https://greatkettlebellworkouts.com/event/addiva-online-weekend-workshop/
ATTACH;FMTTYPE=image/png:https://greatkettlebellworkouts.com/wp-content/uploads/logo_70h.png
END:VEVENT
BEGIN:VEVENT
DTSTART;VALUE=DATE:20210614
DTEND;VALUE=DATE:20210720
DTSTAMP:20260419T095749
CREATED:20210518T162904Z
LAST-MODIFIED:20210520T175148Z
UID:8121-1623628800-1626739199@greatkettlebellworkouts.com
SUMMARY:Addiva Coaching Spa starts June 14\, 2021
DESCRIPTION:Six weeks of intensive\, remarkably effective coaching with Linda Roggli\, Elizabeth Brink\, or Jo Chung and other women who truly understand the challenges of owning an ADHD brain —\nbecause they each have one\, too! \nMonday  Coaching Spa – June 14\, 2021 – July 19\, 2021 \nWednesday Coaching Spa – June 16\, 2021 – July 21\, 2021 \nFriday Coaching Spa – June 18\, 2021 – July 30\, 2021 \nFind out more here! https://greatkettlebellworkouts.com/possibilities/coaching/group-coaching/addiva-coaching-spa/
URL:https://greatkettlebellworkouts.com/event/addiva-coaching-spa/
ATTACH;FMTTYPE=image/png:https://greatkettlebellworkouts.com/wp-content/uploads/coaching-spa-logo-vertical-no-border-2017.png
END:VEVENT
BEGIN:VEVENT
DTSTART;TZID=America/New_York:20210527T190000
DTEND;TZID=America/New_York:20210527T210000
DTSTAMP:20260419T095749
CREATED:20210518T233503Z
LAST-MODIFIED:20210520T142212Z
UID:8144-1622142000-1622149200@greatkettlebellworkouts.com
SUMMARY:ADHD Adults Meetup - May 27\, 2021  @7 pm EDT
DESCRIPTION:Join us for the ADHD Adult Meetup group: \nhttps://us02web.zoom.us/j/6790753223  \npassword: adhd21
URL:https://greatkettlebellworkouts.com/event/may-adhd-adults-meetup/
ATTACH;FMTTYPE=image/png:https://greatkettlebellworkouts.com/wp-content/uploads/Meetup.png
END:VEVENT
END:VCALENDAR